BEGIN:VCALENDAR
CALSCALE:GREGORIAN
PRODID:-//Condeon, vioma GmbH//iCal 2.0//EN
VERSION:2.0
BEGIN:VEVENT
UID:88521962769ed0ae734d0c2.80935692
DTSTAMP:20260425T184143Z
DTSTART:20260530T140000Z
DTEND:20260530T190000Z
SUMMARY:Schaustecken der Narzissenfigur
DESCRIPTION:Gäste und Mitarbeiter stecken unsere Narzissenfigur. Dazu gi
 bt es fröhliche Stimmung\, Fassbier und eine kleine Stärkung. Freie To
 mbola für alle Helfer. \n\nKeine Anmeldung nötig.\n\nWir freuen uns au
 f Ihren Besuch.
LOCATION:MONDI Resort Grundlsee
URL:https://www.grundlsee.mondihotels.com/de/kulinarik/kulinarische-event
 s/detail.date.293-55267.2026-05-30.html
END:VEVENT
END:VCALENDAR
